BEGIN:VCALENDAR
VERSION:2.0
PRODID:-//PolyStar Containment - ECPv6.15.20//NONSGML v1.0//EN
CALSCALE:GREGORIAN
METHOD:PUBLISH
X-WR-CALNAME:PolyStar Containment
X-ORIGINAL-URL:https://polystarcontainment.com
X-WR-CALDESC:Events for PolyStar Containment
REFRESH-INTERVAL;VALUE=DURATION:PT1H
X-Robots-Tag:noindex
X-PUBLISHED-TTL:PT1H
BEGIN:VTIMEZONE
TZID:UTC
BEGIN:STANDARD
TZOFFSETFROM:+0000
TZOFFSETTO:+0000
TZNAME:UTC
DTSTART:20160101T000000
END:STANDARD
END:VTIMEZONE
BEGIN:VTIMEZONE
TZID:America/Chicago
BEGIN:DAYLIGHT
TZOFFSETFROM:-0600
TZOFFSETTO:-0500
TZNAME:CDT
DTSTART:20230312T080000
END:DAYLIGHT
BEGIN:STANDARD
TZOFFSETFROM:-0500
TZOFFSETTO:-0600
TZNAME:CST
DTSTART:20231105T070000
END:STANDARD
BEGIN:DAYLIGHT
TZOFFSETFROM:-0600
TZOFFSETTO:-0500
TZNAME:CDT
DTSTART:20240310T080000
END:DAYLIGHT
BEGIN:STANDARD
TZOFFSETFROM:-0500
TZOFFSETTO:-0600
TZNAME:CST
DTSTART:20241103T070000
END:STANDARD
BEGIN:DAYLIGHT
TZOFFSETFROM:-0600
TZOFFSETTO:-0500
TZNAME:CDT
DTSTART:20250309T080000
END:DAYLIGHT
BEGIN:STANDARD
TZOFFSETFROM:-0500
TZOFFSETTO:-0600
TZNAME:CST
DTSTART:20251102T070000
END:STANDARD
END:VTIMEZONE
BEGIN:VTIMEZONE
TZID:America/New_York
BEGIN:DAYLIGHT
TZOFFSETFROM:-0500
TZOFFSETTO:-0400
TZNAME:EDT
DTSTART:20230312T070000
END:DAYLIGHT
BEGIN:STANDARD
TZOFFSETFROM:-0400
TZOFFSETTO:-0500
TZNAME:EST
DTSTART:20231105T060000
END:STANDARD
BEGIN:DAYLIGHT
TZOFFSETFROM:-0500
TZOFFSETTO:-0400
TZNAME:EDT
DTSTART:20240310T070000
END:DAYLIGHT
BEGIN:STANDARD
TZOFFSETFROM:-0400
TZOFFSETTO:-0500
TZNAME:EST
DTSTART:20241103T060000
END:STANDARD
BEGIN:DAYLIGHT
TZOFFSETFROM:-0500
TZOFFSETTO:-0400
TZNAME:EDT
DTSTART:20250309T070000
END:DAYLIGHT
BEGIN:STANDARD
TZOFFSETFROM:-0400
TZOFFSETTO:-0500
TZNAME:EST
DTSTART:20251102T060000
END:STANDARD
END:VTIMEZONE
BEGIN:VTIMEZONE
TZID:America/Los_Angeles
BEGIN:DAYLIGHT
TZOFFSETFROM:-0800
TZOFFSETTO:-0700
TZNAME:PDT
DTSTART:20230312T100000
END:DAYLIGHT
BEGIN:STANDARD
TZOFFSETFROM:-0700
TZOFFSETTO:-0800
TZNAME:PST
DTSTART:20231105T090000
END:STANDARD
BEGIN:DAYLIGHT
TZOFFSETFROM:-0800
TZOFFSETTO:-0700
TZNAME:PDT
DTSTART:20240310T100000
END:DAYLIGHT
BEGIN:STANDARD
TZOFFSETFROM:-0700
TZOFFSETTO:-0800
TZNAME:PST
DTSTART:20241103T090000
END:STANDARD
BEGIN:DAYLIGHT
TZOFFSETFROM:-0800
TZOFFSETTO:-0700
TZNAME:PDT
DTSTART:20250309T100000
END:DAYLIGHT
BEGIN:STANDARD
TZOFFSETFROM:-0700
TZOFFSETTO:-0800
TZNAME:PST
DTSTART:20251102T090000
END:STANDARD
END:VTIMEZONE
BEGIN:VTIMEZONE
TZID:America/Phoenix
BEGIN:STANDARD
TZOFFSETFROM:-0700
TZOFFSETTO:-0700
TZNAME:MST
DTSTART:20230101T000000
END:STANDARD
END:VTIMEZONE
BEGIN:VEVENT
DTSTART;TZID=UTC:20241029T080000
DTEND;TZID=UTC:20241030T170000
DTSTAMP:20260425T124720
CREATED:20240214T175417Z
LAST-MODIFIED:20240214T175417Z
UID:4405-1730188800-1730307600@polystarcontainment.com
SUMMARY:RREC - Location TBD
DESCRIPTION:
URL:https://polystarcontainment.com/event/rrec-location-tbd/
END:VEVENT
BEGIN:VEVENT
DTSTART;TZID=UTC:20240616T080000
DTEND;TZID=UTC:20240619T170000
DTSTAMP:20260425T124720
CREATED:20240214T175214Z
LAST-MODIFIED:20240214T175214Z
UID:4403-1718524800-1718816400@polystarcontainment.com
SUMMARY:NFPA - Orlando\, FL
DESCRIPTION:
URL:https://polystarcontainment.com/event/nfpa-orlando-fl/
END:VEVENT
BEGIN:VEVENT
DTSTART;TZID=America/Chicago:20240515T080000
DTEND;TZID=America/Chicago:20240517T170000
DTSTAMP:20260425T124720
CREATED:20240214T175725Z
LAST-MODIFIED:20240214T180911Z
UID:4407-1715760000-1715965200@polystarcontainment.com
SUMMARY:Super Dug - Fort Worth\, TX
DESCRIPTION:
URL:https://polystarcontainment.com/event/super-dug-fort-worth-tx/
END:VEVENT
BEGIN:VEVENT
DTSTART;TZID=America/Chicago:20240514T080000
DTEND;TZID=America/Chicago:20240515T170000
DTSTAMP:20260425T124720
CREATED:20240214T175107Z
LAST-MODIFIED:20240214T180941Z
UID:4401-1715673600-1715792400@polystarcontainment.com
SUMMARY:TCEQ - Austin\, TX
DESCRIPTION:
URL:https://polystarcontainment.com/event/tceq-austin-tx/
END:VEVENT
BEGIN:VEVENT
DTSTART;TZID=America/Chicago:20240507T080000
DTEND;TZID=America/Chicago:20240508T170000
DTSTAMP:20260425T124720
CREATED:20240214T174940Z
LAST-MODIFIED:20240214T183047Z
UID:4399-1715068800-1715187600@polystarcontainment.com
SUMMARY:ILTA - Houston\, TX
DESCRIPTION:
URL:https://polystarcontainment.com/event/ilta-houston-tx/
END:VEVENT
BEGIN:VEVENT
DTSTART;TZID=America/New_York:20240506T080000
DTEND;TZID=America/New_York:20240510T170000
DTSTAMP:20260425T124720
CREATED:20240214T174834Z
LAST-MODIFIED:20240214T183408Z
UID:4396-1714982400-1715360400@polystarcontainment.com
SUMMARY:NPE Plastics Show - Orlando\, FL
DESCRIPTION:
URL:https://polystarcontainment.com/event/npe-plastics-show-orlando-fl/
END:VEVENT
BEGIN:VEVENT
DTSTART;TZID=America/Los_Angeles:20240416T080000
DTEND;TZID=America/Los_Angeles:20240418T170000
DTSTAMP:20260425T124720
CREATED:20240214T174639Z
LAST-MODIFIED:20240214T183337Z
UID:4394-1713254400-1713459600@polystarcontainment.com
SUMMARY:TDANA - Los Angeles\, CA
DESCRIPTION:
URL:https://polystarcontainment.com/event/tdana-los-angeles-ca/
END:VEVENT
BEGIN:VEVENT
DTSTART;TZID=America/New_York:20240409T080000
DTEND;TZID=America/New_York:20240411T170000
DTSTAMP:20260425T124720
CREATED:20240214T174503Z
LAST-MODIFIED:20240214T183305Z
UID:4392-1712649600-1712854800@polystarcontainment.com
SUMMARY:Clean Waterways - Cincinnati\, OH
DESCRIPTION:
URL:https://polystarcontainment.com/event/clean-waterways-cincinnati-oh/
END:VEVENT
BEGIN:VEVENT
DTSTART;TZID=America/Los_Angeles:20240409T080000
DTEND;TZID=America/Los_Angeles:20240410T170000
DTSTAMP:20260425T124720
CREATED:20240214T174341Z
LAST-MODIFIED:20240214T183235Z
UID:4390-1712649600-1712768400@polystarcontainment.com
SUMMARY:PNWARS - San Francisco\, CA
DESCRIPTION:
URL:https://polystarcontainment.com/event/pnwars-san-francisco-ca/
END:VEVENT
BEGIN:VEVENT
DTSTART;TZID=America/Chicago:20240324T080000
DTEND;TZID=America/Chicago:20240326T170000
DTSTAMP:20260425T124720
CREATED:20240214T174052Z
LAST-MODIFIED:20240214T174052Z
UID:4388-1711267200-1711472400@polystarcontainment.com
SUMMARY:ASLRRA - Kansas City\, MO
DESCRIPTION:
URL:https://polystarcontainment.com/event/aslrra-kansas-city-mo/
END:VEVENT
BEGIN:VEVENT
DTSTART;TZID=America/Chicago:20240305T080000
DTEND;TZID=America/Chicago:20240306T170000
DTSTAMP:20260425T124720
CREATED:20240214T173538Z
LAST-MODIFIED:20240214T173602Z
UID:4382-1709625600-1709744400@polystarcontainment.com
SUMMARY:SWARS - Galveston\, TX
DESCRIPTION:
URL:https://polystarcontainment.com/event/swars-galveston-tx/
END:VEVENT
BEGIN:VEVENT
DTSTART;TZID=America/New_York:20240228T080000
DTEND;TZID=America/New_York:20240229T170000
DTSTAMP:20260425T124720
CREATED:20240214T173348Z
LAST-MODIFIED:20240214T173712Z
UID:4380-1709107200-1709226000@polystarcontainment.com
SUMMARY:SEARS - Atlanta\, GA
DESCRIPTION:
URL:https://polystarcontainment.com/event/sears/
END:VEVENT
BEGIN:VEVENT
DTSTART;TZID=America/Chicago:20240227T080000
DTEND;TZID=America/Chicago:20240229T170000
DTSTAMP:20260425T124720
CREATED:20240214T173136Z
LAST-MODIFIED:20240214T173812Z
UID:4378-1709020800-1709226000@polystarcontainment.com
SUMMARY:EUEC - Dallas\, TX
DESCRIPTION:
URL:https://polystarcontainment.com/event/euec/
END:VEVENT
BEGIN:VEVENT
DTSTART;TZID=America/Chicago:20240218T080000
DTEND;TZID=America/Chicago:20240221T170000
DTSTAMP:20260425T124720
CREATED:20240214T172934Z
LAST-MODIFIED:20240214T173758Z
UID:4375-1708243200-1708534800@polystarcontainment.com
SUMMARY:Specialty & Custom Chemicals Show - Nashville\, TN
DESCRIPTION:
URL:https://polystarcontainment.com/event/specialty-custom-chemicals-show/
END:VEVENT
BEGIN:VEVENT
DTSTART;TZID=America/Phoenix:20240103T080000
DTEND;TZID=America/Phoenix:20240105T170000
DTSTAMP:20260425T124720
CREATED:20240214T172946Z
LAST-MODIFIED:20240214T173845Z
UID:4371-1704268800-1704474000@polystarcontainment.com
SUMMARY:NRC/REMSA - Phoenix\, AZ
DESCRIPTION:
URL:https://polystarcontainment.com/event/nrc-remsa/
END:VEVENT
BEGIN:VEVENT
DTSTART;VALUE=DATE:20180110
DTEND;VALUE=DATE:20180114
DTSTAMP:20260425T124720
CREATED:20170117T222419Z
LAST-MODIFIED:20170117T222419Z
UID:2774-1515542400-1515887999@polystarcontainment.com
SUMMARY:2018 NRC Conference & Exhibition
DESCRIPTION:
URL:https://polystarcontainment.com/event/2018-nrc-conference-exhibition/
END:VEVENT
BEGIN:VEVENT
DTSTART;VALUE=DATE:20171205
DTEND;VALUE=DATE:20171208
DTSTAMP:20260425T124720
CREATED:20170117T222219Z
LAST-MODIFIED:20170117T222219Z
UID:2773-1512432000-1512691199@polystarcontainment.com
SUMMARY:POWER-GEN International
DESCRIPTION:Please stop by and join us at Booth #10534.
URL:https://polystarcontainment.com/event/power-gen-international/
LOCATION:Las Vegas Convention Center\, 3150 Paradise Rd\, Las Vegas\, NV\, 89190\, United States
END:VEVENT
BEGIN:VEVENT
DTSTART;VALUE=DATE:20171024
DTEND;VALUE=DATE:20171026
DTSTAMP:20260425T124720
CREATED:20170117T222008Z
LAST-MODIFIED:20190830T184443Z
UID:2768-1508803200-1508975999@polystarcontainment.com
SUMMARY:2017 Railroad Environmental Conference
DESCRIPTION:
URL:https://polystarcontainment.com/event/2017-railroad-environmental-conference/
LOCATION:University of Illinois at Urbana–Champaign\, Champaign\, IL\, 61801\, United States
END:VEVENT
BEGIN:VEVENT
DTSTART;VALUE=DATE:20170917
DTEND;VALUE=DATE:20170920
DTSTAMP:20260425T124720
CREATED:20170117T221629Z
LAST-MODIFIED:20170117T221629Z
UID:2766-1505606400-1505865599@polystarcontainment.com
SUMMARY:Railway Interchange
DESCRIPTION:
URL:https://polystarcontainment.com/event/railway-interchange/
LOCATION:Indiana Convention Center\, 100 S Capitol Ave\, Indianapolis\, IN\, 46225\, United States
END:VEVENT
BEGIN:VEVENT
DTSTART;VALUE=DATE:20170829
DTEND;VALUE=DATE:20170901
DTSTAMP:20260425T124720
CREATED:20170117T221346Z
LAST-MODIFIED:20170117T221346Z
UID:2765-1503964800-1504223999@polystarcontainment.com
SUMMARY:DUG Eagle Ford Conference & Exhibition
DESCRIPTION:
URL:https://polystarcontainment.com/event/dug-eagle-ford-conference-exhibition/
LOCATION:Henry B. Gonzalez Convention Center\, 900 E Market St.\, San Antonio\, TX\, 78205\, United States
END:VEVENT
BEGIN:VEVENT
DTSTART;VALUE=DATE:20170612
DTEND;VALUE=DATE:20170615
DTSTAMP:20260425T124720
CREATED:20170117T223143Z
LAST-MODIFIED:20170117T223143Z
UID:2762-1497225600-1497484799@polystarcontainment.com
SUMMARY:2017 ILTA International Operating Conference & Trade Show
DESCRIPTION:Please stop by and join us at Booth #448.
URL:https://polystarcontainment.com/event/2017-ilta-international-operating-conference-trade-show/
END:VEVENT
BEGIN:VEVENT
DTSTART;VALUE=DATE:20170502
DTEND;VALUE=DATE:20170505
DTSTAMP:20260425T124720
CREATED:20170117T220839Z
LAST-MODIFIED:20170117T220839Z
UID:2759-1493683200-1493942399@polystarcontainment.com
SUMMARY:TDANA 2017 Conference
DESCRIPTION:
URL:https://polystarcontainment.com/event/tdana-2017-conference/
LOCATION:Kansas City Marriott Country Club Plaza\, 4445 Main St\, Kansas City\, MO\, 64111\, United States
END:VEVENT
BEGIN:VEVENT
DTSTART;VALUE=DATE:20170418
DTEND;VALUE=DATE:20170421
DTSTAMP:20260425T124720
CREATED:20170117T220554Z
LAST-MODIFIED:20170117T220554Z
UID:2758-1492473600-1492732799@polystarcontainment.com
SUMMARY:NISTM 19th Annual International Aboveground Storage Tank Conference & Trade Show
DESCRIPTION:
URL:https://polystarcontainment.com/event/nistm-19th-annual-international-aboveground-storage-tank-conference-trade-show/
LOCATION:Rosen Shingle Creek Hotel\, 9939 Universal Blvd\, Orlando\, FL\, 32819\, United States
END:VEVENT
BEGIN:VEVENT
DTSTART;VALUE=DATE:20170410
DTEND;VALUE=DATE:20170413
DTSTAMP:20260425T124720
CREATED:20170117T214113Z
LAST-MODIFIED:20170117T214113Z
UID:2755-1491782400-1492041599@polystarcontainment.com
SUMMARY:ELECTRIC POWER Conference + Exhibition
DESCRIPTION:Please stop by and join us in Hall F1.
URL:https://polystarcontainment.com/event/electric-power-conference-exhibition/
LOCATION:McCormick Place West\, 230 N Michigan Ave\, Chicago\, IL\, 60601\, United States
END:VEVENT
BEGIN:VEVENT
DTSTART;VALUE=DATE:20170403
DTEND;VALUE=DATE:20170406
DTSTAMP:20260425T124720
CREATED:20170117T202246Z
LAST-MODIFIED:20190830T184648Z
UID:2751-1491177600-1491436799@polystarcontainment.com
SUMMARY:DUG Permian Basin
DESCRIPTION:
URL:https://polystarcontainment.com/event/dug-permian-basin/
LOCATION:Fort Worth Convention Center\, 1201 Houston St\, Fort Worth\, TX\, 76102\, United States
END:VEVENT
BEGIN:VEVENT
DTSTART;VALUE=DATE:20170329
DTEND;VALUE=DATE:20170401
DTSTAMP:20260425T124720
CREATED:20170117T201911Z
LAST-MODIFIED:20170117T201911Z
UID:2748-1490745600-1491004799@polystarcontainment.com
SUMMARY:2017 Design-Build for Water/Wastewater Conference
DESCRIPTION:
URL:https://polystarcontainment.com/event/2017-design-build-waterwastewater-conference/
LOCATION:Minneapolis Convention Center\, 1301 2nd Ave S\, Minneapolis\,\, MN\, 55403\, United States
END:VEVENT
BEGIN:VEVENT
DTSTART;VALUE=DATE:20170315
DTEND;VALUE=DATE:20170318
DTSTAMP:20260425T124720
CREATED:20170117T201600Z
LAST-MODIFIED:20170117T201600Z
UID:2745-1489536000-1489795199@polystarcontainment.com
SUMMARY:DUG Bakken and Niobrara
DESCRIPTION:
URL:https://polystarcontainment.com/event/dug-bakken-niobrara/
LOCATION:Colorado Convention Center\, 700 14th St\, Denver\, CO\, 80202\, United States
END:VEVENT
BEGIN:VEVENT
DTSTART;VALUE=DATE:20170301
DTEND;VALUE=DATE:20170303
DTSTAMP:20260425T124720
CREATED:20170117T201259Z
LAST-MODIFIED:20170117T201259Z
UID:2742-1488326400-1488499199@polystarcontainment.com
SUMMARY:SWARS 2017 Annual Meeting
DESCRIPTION:
URL:https://polystarcontainment.com/event/swars-2017-annual-meeting/
LOCATION:Marriott Irvine\, 18000 Von Karman Ave\, Irvine\, CA\, 92612\, United States
END:VEVENT
BEGIN:VEVENT
DTSTART;VALUE=DATE:20170207
DTEND;VALUE=DATE:20170211
DTSTAMP:20260425T124720
CREATED:20170117T200931Z
LAST-MODIFIED:20170117T200931Z
UID:2741-1486425600-1486771199@polystarcontainment.com
SUMMARY:EUEC 2017
DESCRIPTION:
URL:https://polystarcontainment.com/event/euec-2017/
LOCATION:San Diego Convention Center\, 111 W Harbor Dr\, San Diego\, CA\, 92101\, United States
END:VEVENT
BEGIN:VEVENT
DTSTART;VALUE=DATE:20170117
DTEND;VALUE=DATE:20170121
DTSTAMP:20260425T124720
CREATED:20170117T200546Z
LAST-MODIFIED:20170117T200546Z
UID:2739-1484611200-1484956799@polystarcontainment.com
SUMMARY:World of Concrete
DESCRIPTION:
URL:https://polystarcontainment.com/event/world-of-concrete/
LOCATION:Las Vegas Convention Center\, 3150 Paradise Rd\, Las Vegas\, NV\, 89190\, United States
END:VEVENT
END:VCALENDAR