BEGIN:VCALENDAR
VERSION:2.0
PRODID:-//PolyStar Containment - ECPv6.15.20//NONSGML v1.0//EN
CALSCALE:GREGORIAN
METHOD:PUBLISH
X-ORIGINAL-URL:https://polystarcontainment.com
X-WR-CALDESC:Events for PolyStar Containment
REFRESH-INTERVAL;VALUE=DURATION:PT1H
X-Robots-Tag:noindex
X-PUBLISHED-TTL:PT1H
BEGIN:VTIMEZONE
TZID:UTC
BEGIN:STANDARD
TZOFFSETFROM:+0000
TZOFFSETTO:+0000
TZNAME:UTC
DTSTART:20140101T000000
END:STANDARD
END:VTIMEZONE
BEGIN:VEVENT
DTSTART;VALUE=DATE:20170612
DTEND;VALUE=DATE:20170615
DTSTAMP:20260425T160430
CREATED:20170117T223143Z
LAST-MODIFIED:20170117T223143Z
UID:2762-1497225600-1497484799@polystarcontainment.com
SUMMARY:2017 ILTA International Operating Conference & Trade Show
DESCRIPTION:Please stop by and join us at Booth #448.
URL:https://polystarcontainment.com/event/2017-ilta-international-operating-conference-trade-show/
LOCATION:TX
END:VEVENT
BEGIN:VEVENT
DTSTART;VALUE=DATE:20170502
DTEND;VALUE=DATE:20170505
DTSTAMP:20260425T160430
CREATED:20170117T220839Z
LAST-MODIFIED:20170117T220839Z
UID:2759-1493683200-1493942399@polystarcontainment.com
SUMMARY:TDANA 2017 Conference
DESCRIPTION:
URL:https://polystarcontainment.com/event/tdana-2017-conference/
LOCATION:Kansas City Marriott Country Club Plaza\, 4445 Main St\, Kansas City\, MO\, 64111\, United States
END:VEVENT
BEGIN:VEVENT
DTSTART;VALUE=DATE:20170418
DTEND;VALUE=DATE:20170421
DTSTAMP:20260425T160430
CREATED:20170117T220554Z
LAST-MODIFIED:20170117T220554Z
UID:2758-1492473600-1492732799@polystarcontainment.com
SUMMARY:NISTM 19th Annual International Aboveground Storage Tank Conference & Trade Show
DESCRIPTION:
URL:https://polystarcontainment.com/event/nistm-19th-annual-international-aboveground-storage-tank-conference-trade-show/
LOCATION:Rosen Shingle Creek Hotel\, 9939 Universal Blvd\, Orlando\, FL\, 32819\, United States
END:VEVENT
BEGIN:VEVENT
DTSTART;VALUE=DATE:20170410
DTEND;VALUE=DATE:20170413
DTSTAMP:20260425T160430
CREATED:20170117T214113Z
LAST-MODIFIED:20170117T214113Z
UID:2755-1491782400-1492041599@polystarcontainment.com
SUMMARY:ELECTRIC POWER Conference + Exhibition
DESCRIPTION:Please stop by and join us in Hall F1.
URL:https://polystarcontainment.com/event/electric-power-conference-exhibition/
LOCATION:McCormick Place West\, 230 N Michigan Ave\, Chicago\, IL\, 60601\, United States
END:VEVENT
BEGIN:VEVENT
DTSTART;VALUE=DATE:20170403
DTEND;VALUE=DATE:20170406
DTSTAMP:20260425T160430
CREATED:20170117T202246Z
LAST-MODIFIED:20190830T184648Z
UID:2751-1491177600-1491436799@polystarcontainment.com
SUMMARY:DUG Permian Basin
DESCRIPTION:
URL:https://polystarcontainment.com/event/dug-permian-basin/
LOCATION:Fort Worth Convention Center\, 1201 Houston St\, Fort Worth\, TX\, 76102\, United States
END:VEVENT
BEGIN:VEVENT
DTSTART;VALUE=DATE:20170329
DTEND;VALUE=DATE:20170401
DTSTAMP:20260425T160430
CREATED:20170117T201911Z
LAST-MODIFIED:20170117T201911Z
UID:2748-1490745600-1491004799@polystarcontainment.com
SUMMARY:2017 Design-Build for Water/Wastewater Conference
DESCRIPTION:
URL:https://polystarcontainment.com/event/2017-design-build-waterwastewater-conference/
LOCATION:Minneapolis Convention Center\, 1301 2nd Ave S\, Minneapolis\,\, MN\, 55403\, United States
END:VEVENT
BEGIN:VEVENT
DTSTART;VALUE=DATE:20170315
DTEND;VALUE=DATE:20170318
DTSTAMP:20260425T160430
CREATED:20170117T201600Z
LAST-MODIFIED:20170117T201600Z
UID:2745-1489536000-1489795199@polystarcontainment.com
SUMMARY:DUG Bakken and Niobrara
DESCRIPTION:
URL:https://polystarcontainment.com/event/dug-bakken-niobrara/
LOCATION:Colorado Convention Center\, 700 14th St\, Denver\, CO\, 80202\, United States
END:VEVENT
BEGIN:VEVENT
DTSTART;VALUE=DATE:20170301
DTEND;VALUE=DATE:20170303
DTSTAMP:20260425T160430
CREATED:20170117T201259Z
LAST-MODIFIED:20170117T201259Z
UID:2742-1488326400-1488499199@polystarcontainment.com
SUMMARY:SWARS 2017 Annual Meeting
DESCRIPTION:
URL:https://polystarcontainment.com/event/swars-2017-annual-meeting/
LOCATION:Marriott Irvine\, 18000 Von Karman Ave\, Irvine\, CA\, 92612\, United States
END:VEVENT
BEGIN:VEVENT
DTSTART;VALUE=DATE:20170207
DTEND;VALUE=DATE:20170211
DTSTAMP:20260425T160430
CREATED:20170117T200931Z
LAST-MODIFIED:20170117T200931Z
UID:2741-1486425600-1486771199@polystarcontainment.com
SUMMARY:EUEC 2017
DESCRIPTION:
URL:https://polystarcontainment.com/event/euec-2017/
LOCATION:San Diego Convention Center\, 111 W Harbor Dr\, San Diego\, CA\, 92101\, United States
END:VEVENT
BEGIN:VEVENT
DTSTART;VALUE=DATE:20170117
DTEND;VALUE=DATE:20170121
DTSTAMP:20260425T160430
CREATED:20170117T200546Z
LAST-MODIFIED:20170117T200546Z
UID:2739-1484611200-1484956799@polystarcontainment.com
SUMMARY:World of Concrete
DESCRIPTION:
URL:https://polystarcontainment.com/event/world-of-concrete/
LOCATION:Las Vegas Convention Center\, 3150 Paradise Rd\, Las Vegas\, NV\, 89190\, United States
END:VEVENT
BEGIN:VEVENT
DTSTART;VALUE=DATE:20161213
DTEND;VALUE=DATE:20161216
DTSTAMP:20260425T160430
CREATED:20160504T204003Z
LAST-MODIFIED:20160504T204003Z
UID:2475-1481587200-1481846399@polystarcontainment.com
SUMMARY:PowerGEN International
DESCRIPTION:
URL:https://polystarcontainment.com/event/powergen-international/
LOCATION:Orange County Convention Center\, 9899 International Dr\, Orlando\, FL\, 32819\, United States
END:VEVENT
BEGIN:VEVENT
DTSTART;VALUE=DATE:20161101
DTEND;VALUE=DATE:20161103
DTSTAMP:20260425T160430
CREATED:20160504T203653Z
LAST-MODIFIED:20190802T142334Z
UID:2473-1477958400-1478131199@polystarcontainment.com
SUMMARY:2016 Railroad Environmental Conference
DESCRIPTION:
URL:https://polystarcontainment.com/event/2016-railroad-environmental-conference/
LOCATION:University of Illinois at Urbana-Champaign\, Urbana-Champaign\, IL\, United States
END:VEVENT
BEGIN:VEVENT
DTSTART;VALUE=DATE:20160912
DTEND;VALUE=DATE:20160915
DTSTAMP:20260425T160430
CREATED:20160504T203318Z
LAST-MODIFIED:20160504T203318Z
UID:2472-1473638400-1473897599@polystarcontainment.com
SUMMARY:DUG Eagle Ford
DESCRIPTION:
URL:https://polystarcontainment.com/event/dug-eagle-ford/
LOCATION:Henry B. Gonzalez Convention Center\, 900 E Market St.\, San Antonio\, TX\, 78205\, United States
END:VEVENT
BEGIN:VEVENT
DTSTART;VALUE=DATE:20160828
DTEND;VALUE=DATE:20160901
DTSTAMP:20260425T160430
CREATED:20160504T203047Z
LAST-MODIFIED:20160504T203047Z
UID:2470-1472342400-1472687999@polystarcontainment.com
SUMMARY:AREMA 2016 Annual Conference & Exposition
DESCRIPTION:
URL:https://polystarcontainment.com/event/arema-2016-annual-conference-exposition/
LOCATION:Hilton Orlando\, 6001 Destination Pkwy\, Orlando\, FL\, 32819\, United States
END:VEVENT
BEGIN:VEVENT
DTSTART;VALUE=DATE:20160621
DTEND;VALUE=DATE:20160624
DTSTAMP:20260425T160430
CREATED:20160504T202754Z
LAST-MODIFIED:20160504T202828Z
UID:2468-1466467200-1466726399@polystarcontainment.com
SUMMARY:DUG East
DESCRIPTION:
URL:https://polystarcontainment.com/event/dug-east/
LOCATION:David L. Lawrence Convention Center\, 1000 Fort Duquesne Blvd\, Pittsburgh\, PA\, 15222\, United States
END:VEVENT
BEGIN:VEVENT
DTSTART;VALUE=DATE:20160524
DTEND;VALUE=DATE:20160528
DTSTAMP:20260425T160430
CREATED:20160504T201322Z
LAST-MODIFIED:20160504T201322Z
UID:2464-1464048000-1464393599@polystarcontainment.com
SUMMARY:AFPM-IPC (Reliability & Maintenance)
DESCRIPTION:
URL:https://polystarcontainment.com/event/afpm-ipc-reliability-maintenance/
LOCATION:Henry B. Gonzalez Convention Center\, 900 E Market St.\, San Antonio\, TX\, 78205\, United States
END:VEVENT
BEGIN:VEVENT
DTSTART;VALUE=DATE:20160523
DTEND;VALUE=DATE:20160526
DTSTAMP:20260425T160430
CREATED:20160504T200534Z
LAST-MODIFIED:20160504T200534Z
UID:2462-1463961600-1464220799@polystarcontainment.com
SUMMARY:International Liquid Terminals Association
DESCRIPTION:
URL:https://polystarcontainment.com/event/international-liquid-terminals-association/
LOCATION:George R. Brown Convention Center\, 1001 Avenida De Las Americas\, Houston\, TX\, 77010\, United States
END:VEVENT
BEGIN:VEVENT
DTSTART;VALUE=DATE:20160511
DTEND;VALUE=DATE:20160514
DTSTAMP:20260425T160430
CREATED:20160504T200258Z
LAST-MODIFIED:20180927T192039Z
UID:2460-1462924800-1463183999@polystarcontainment.com
SUMMARY:Canadian Rail Summit
DESCRIPTION:
URL:https://polystarcontainment.com/event/canadian-rail-summit/
LOCATION:Metro Toronto Convention Centre\, 222 Bremner Blvd\, Toronto\, ON\, M5V 3L9\, Canada
END:VEVENT
BEGIN:VEVENT
DTSTART;TZID=UTC:20160504T080000
DTEND;TZID=UTC:20160504T170000
DTSTAMP:20260425T160430
CREATED:20160504T202538Z
LAST-MODIFIED:20160504T202538Z
UID:2466-1462348800-1462381200@polystarcontainment.com
SUMMARY:DUG Permian
DESCRIPTION:
URL:https://polystarcontainment.com/event/dug-permian/
LOCATION:Fort Worth Convention Center\, 1201 Houston St\, Fort Worth\, TX\, 76102\, United States
END:VEVENT
BEGIN:VEVENT
DTSTART;VALUE=DATE:20160502
DTEND;VALUE=DATE:20160506
DTSTAMP:20260425T160430
CREATED:20160504T195911Z
LAST-MODIFIED:20160504T195911Z
UID:2458-1462147200-1462492799@polystarcontainment.com
SUMMARY:IEEE PES T&D Conference & Exposition
DESCRIPTION:
URL:https://polystarcontainment.com/event/ieee/
LOCATION:Kay Bailey Hutchison Convention Center\, 650 S Griffin St.\, Dallas\, TX\, 75202\, United States
END:VEVENT
BEGIN:VEVENT
DTSTART;TZID=UTC:20151209T080000
DTEND;TZID=UTC:20151210T170000
DTSTAMP:20260425T160430
CREATED:20151106T174009Z
LAST-MODIFIED:20151106T174009Z
UID:1599-1449648000-1449766800@polystarcontainment.com
SUMMARY:2015 Houston Oilfield Expo
DESCRIPTION:
URL:https://polystarcontainment.com/event/2015-houston-oilfield-expo/
LOCATION:George R. Brown Convention Center\, 1001 Avenida de las Americas\, Houston\, TX\, 77010\, United States
END:VEVENT
BEGIN:VEVENT
DTSTART;TZID=UTC:20151208T080000
DTEND;TZID=UTC:20151210T170000
DTSTAMP:20260425T160430
CREATED:20151106T174401Z
LAST-MODIFIED:20151106T175204Z
UID:1602-1449561600-1449766800@polystarcontainment.com
SUMMARY:POWER-GEN International: Las Vegas
DESCRIPTION:
URL:https://polystarcontainment.com/event/power-gen-international-las-vegas/
LOCATION:Las Vegas Convention Center\, 3150 Paradise Rd\, Las Vegas\, NV\, 89190\, United States
END:VEVENT
END:VCALENDAR